BEGIN:VCALENDAR
PRODID:-//AT Content Types//AT Event//EN
VERSION:1.0
BEGIN:VEVENT
DTSTART:20260611T220000Z
DTEND:20260612T220000Z
DCREATED:20260420T103709Z
UID:ATEvent-7c85f6d00e5b488d8052ec2f11b1a102
SEQUENCE:0
LAST-MODIFIED:20260420T114358Z
SUMMARY:CABRÓ ROCK
DESCRIPTION:12/13/JUNY 2026
LOCATION:Zona esportiva
PRIORITY:3
TRANSP:0
END:VEVENT
END:VCALENDAR
