BEGIN:VCALENDAR
PRODID:-//AT Content Types//AT Event//EN
VERSION:1.0
BEGIN:VEVENT
DTSTART:20260412T093000Z
DTEND:20260426T093000Z
DCREATED:20221024T054734Z
UID:ATEvent-e4ba746245b94f72940b6009c788f420
SEQUENCE:0
LAST-MODIFIED:20260331T084016Z
SUMMARY:VISITES TEMÀTIQUES DELS DIUMENGES
DESCRIPTION:D'octubre a maig\, cada mes un tema diferent\nA l'abril: l
 a ruta literària Ma Àngels Anglada
LOCATION:Centre històric
PRIORITY:3
TRANSP:0
END:VEVENT
END:VCALENDAR
