BEGIN:VCALENDAR
PRODID:-//AT Content Types//AT Event//EN
VERSION:2.0
METHOD:PUBLISH
BEGIN:VEVENT
DTSTAMP:20260420T155521Z
CREATED:20260420T103709Z
UID:ATEvent-e4ebd46ff0624becab9773cbd92a996d
LAST-MODIFIED:20260420T114358Z
SUMMARY:CABRÓ ROCK-FESTIVAL
DTSTART:20260611T220000Z
DTEND:20260612T220000Z
DESCRIPTION:12/13/JUNIO 2026
LOCATION:Zona Deportiva
URL:https://www.cabrorock.cat/cabro-rock-estiu-inici/
CLASS:PUBLIC
END:VEVENT
END:VCALENDAR
