BEGIN:VCALENDAR
PRODID:-//AT Content Types//AT Event//EN
VERSION:1.0
BEGIN:VEVENT
DTSTART:20260425T100000Z
DTEND:20260426T100000Z
DCREATED:20210428T103624Z
UID:ATEvent-e88df1f74a3a40dc85fac751bef32e06
SEQUENCE:0
LAST-MODIFIED:20260420T065304Z
SUMMARY:VISITAS GUIADAS PROGRAMADAS
DESCRIPTION:SÁBADOS\, DOMINGOS Y FESTIVOS
LOCATION:Centro histórico de la ciudad
PRIORITY:3
TRANSP:0
END:VEVENT
END:VCALENDAR
